Workbook

Sheet Պարամետրեր
A1: Կոդ | B1: Պարամետր | C1: Հոռետես. | D1: Բազային | E1: Լավատես. | F1: Միավոր | G1: Աղբյուր / հիմնավորում
A2: GDP | B2: Հայաստանի ՀՆԱ 2025 | C2: 29200 | D2: 29200 | E2: 29200 | F2: մլն $ | G2: Արմստատ, «ՀՀ սոցիալ-տնտեսական վիճակը, 2026 թ. հունվար», աղյուսակ 1.1.2 (https://armstat.am/file/article/sv_01_26a_112.pdf; ռուսերեն տարբերակը՝ sv_01_26r_112.pdf). 2025 թ. ՀՆԱ-ն՝ 11 317,5 մլրդ դրամ, մեկ շնչի հաշվով՝ 3 666 540 դրամ, կամ $9 474։ Այստեղից ՀՆԱ-ն դոլարով ≈ 29,2 մլրդ (11 317,5 մլրդ դրամ ÷ 387 դրամ մեկ դոլարի դիմաց՝ Արմստատի վերահաշվարկում կիրառված փոխարժեքը). նույնքան է նաև ԵԱՏՄ զեկույցում
A3: trad_exp | B3: Ավանդական արտահանումը ԵԱՏՄ 2025 | C3: 1538 | D3: 1538 | E3: 1538 | F3: մլն $ | G3: Պետական եկամուտների կոմիտե. արտահանումը ԵԱՏՄ՝ 3 125, հանած 84–90 խմբերի տեխնիկան, թանկարժեք մետաղներն ու ոսկերչական իրերը
A4: trad_cut | B4: Ավանդական արտահանման անկում, 1–3 տարի | C4: 0.396 | D4: 0.3 | E4: 0.15 | F4: մասնաբաժին | G4: Հոռետես. = ԵԱՏՄ զեկույց (39,6%). բազային/լավատես.՝ ենթադրություն. Անկախ պետությունների համագործակցության ազատ առևտրի գոտին պահպանվում է, մաքսատուրքեր չկան
A5: trad_lt | B5: Անկման մասնաբաժինը, որը պահպանվում է 10 տարի անց | C5: 0.75 | D5: 0.5 | E5: 0.35 | F5: մասնաբաժին | G5: Ենթադրություն՝ Վրաստանի 2006–2013 թթ. նախադեպով (գինու/հանքային ջրի վերակողմնորոշում, PMCG)
A6: va_trad | B6: Ավելացված արժեքի մասնաբաժինը ավանդական արտահանման մեջ | C6: 0.715 | D6: 0.715 | E6: 0.715 | F6: մասնաբաժին | G6: 2025 թ. սինթետիկ «ծախսեր–թողարկում» աղյուսակ («Ծախսեր–թողարկում» թերթ). կապերի կառուցվածքը՝ Արմստատի 2006 թ. աղյուսակ, հանրագումարները՝ Արմստատ 2025 թ., Կենտրոնական բանկի վճարային հաշվեկշիռ, մաքսային տվյալներ։ Ամբողջական (ուղղակի և անուղղակի) ներքին ավելացված արժեքը արտահանման $1-ի հաշվով. կշիռները՝ արտահանումը ԵԱՏՄ առանց վերաարտահանման (2025 թ., մաքսային տարեկան տվյալներ՝ $1,52 մլրդ)։ Ստուգում՝ 0,675–0,757
A7: reexp_eaeu | B7: Վերաարտահանումը ԵԱՏՄ 2025 | C7: 1588 | D7: 1588 | E7: 1588 | F7: մլն $ | G7: Պետական եկամուտների կոմիտե. 84–90 խմբերի տեխնիկա (1 458) + թանկարժեք մետաղներ (99) + ոսկերչական իրեր (31). ԵԱՏՄ զեկույց՝ 1 598
A8: reexp_third | B8: Վերաարտահանումը երրորդ երկրներ 2025 | C8: 1598 | D8: 1598 | E8: 1598 | F8: մլն $ | G8: Պետական եկամուտների կոմիտե. թանկարժեք մետաղներ և քարեր (7102, 7103, 7106, 7108, 7110, 7112) ԵԱՏՄ-ից դուրս. ոսկերչական իրերը (1 081) ներառված չեն
A9: reexp_cut | B9: Վերաարտահանման անկում | C9: 0.9 | D9: 0.7 | E9: 0.5 | F9: մասնաբաժին | G9: Հոռետես. ≈ զեկույց (91,6%). ենթադրություն
A10: reexp_cut_third | B10: Վերաարտահանման անկումը երրորդ երկրներ | C10: 0.6 | D10: 0.4 | E10: 0.2 | F10: մասնաբաժին | G10: Ենթադրություն. նվազում է միայն այն, ինչը կապված է ռուսական հումքի/տարանցման հետ
A11: va_reexp | B11: Վերաարտահանման մարժա (ավելացված արժեք) | C11: 0.08 | D11: 0.05 | E11: 0.03 | F11: մասնաբաժին | G11: Ենթադրություն. առևտրային մարժա. պաշտոնական գնահատական չի գտնվել
A12: svc_exp | B12: Ծառայությունների արտահանումը ԵԱՏՄ 2025 | C12: 1295 | D12: 1295 | E12: 1295 | F12: մլն $ | G12: ԵԱՏՄ զեկույց, էջ 31
A13: svc_cut | B13: Ծառայությունների արտահանման անկում, 1–3 տարի | C13: 0.417 | D13: 0.25 | E13: 0.15 | F13: մասնաբաժին | G13: Հոռետես. = զեկույց (41,7%). Ռուսաստանի հետ առանց վիզայի ռեժիմը երկկողմ է, զբոսաշրջությունը պահպանվում է
... A54: tripp_fee | B54: ԹՐԻՓՓ. տարանցման վճար գազով | C54: 0.05 | D54: 0.05 | E54: 0.05 | F54: ծավալի մասնաբաժին | G54: Ինչպես Վրաստանի դեպքում Հարավկովկասյան գազատարով. տարանցիկ գազի 5% (Արժույթի միջազգային հիմնադրամ, աշխատանքային փաստաթուղթ 04/209)

Sheet Հաշվարկ
A1: Ալիք | B1: Հոռետես. 1–3 տարի | C1: Բազային 1–3 տարի | D1: Լավատես. 1–3 տարի | E1: Հոռետես. 10 տարի | F1: Բազային 10 տարի | G1: Լավատես. 10 տարի | H1: Բանաձև (բառերով)
A2: 1a Ավանդական արտահանումը ԵԱՏՄ | B2: =-Պարամետրեր!C3*Պարամետրեր!C4*Պարամետրեր!C6 -> -435.46932 | C2: =-Պարամետրեր!D3*Պարամետրեր!D4*Պարամետրեր!D6 -> -329.901 | D2: =-Պարամետրեր!E3*Պարամետրեր!E4*Պարամետրեր!E6 -> -164.9505 | E2: =-Պարամետրեր!C3*Պարամետրեր!C4*Պարամետրեր!C5*Պարամետրեր!C6 -> -326.60199 | F2: =-Պարամետրեր!D3*Պարամետրեր!D4*Պարամետրեր!D5*Պարամետրեր!D6 -> -164.9505 | G2: =-Պարամետրեր!E3*Պարամետրեր!E4*Պարամետրեր!E5*Պարամետրեր!E6 -> -57.732675 | H2: արտահանում × անկում × ավելացված արժեքի մասնաբաժին
A3: 1b Վերաարտահանում (մարժա) | B3: =-(Պարամետրեր!C7*Պարամետրեր!C9+Պարամետրեր!C8*Պարամետրեր!C10)*Պարամետրեր!C11 -> -191.04 | C3: =-(Պարամետրեր!D7*Պարամետրեր!D9+Պարամետրեր!D8*Պարամետրեր!D10)*Պարամետրեր!D11 -> -87.54 | D3: =-(Պարամետրեր!E7*Պարամետրեր!E9+Պարամետրեր!E8*Պարամետրեր!E10)*Պարամետրեր!E11 -> -33.408 | E3: =-(Պարամետրեր!C7*Պարամետրեր!C9+Պարամետրեր!C8*Պարամետրեր!C10)*Պարամետրեր!C11 -> -191.04 | F3: =-(Պարամետրեր!D7*Պարամետրեր!D9+Պարամետրեր!D8*Պարամետրեր!D10)*Պարամետրեր!D11 -> -87.54 | G3: =-(Պարամետրեր!E7*Պարամետրեր!E9+Պարամետրեր!E8*Պարամետրեր!E10)*Պարամետրեր!E11 -> -33.408 | H3: (վերաարտահանում ԵԱՏՄ × անկում + երրորդ երկրներ × անկում) × մարժա
A4: 1c Ծառայությունների արտահանումը ԵԱՏՄ | B4: =-Պարամետրեր!C12*Պարամետրեր!C13*Պարամետրեր!C15 -> -388.27078 | C4: =-Պարամետրեր!D12*Պարամետրեր!D13*Պարամետրեր!D15 -> -232.77625 | D4: =-Պարամետրեր!E12*Պարամետրեր!E13*Պարամետրեր!E15 -> -139.66575 | E4: =-Պարամետրեր!C12*Պարամետրեր!C13*Պարամետրեր!C14*Պարամետրեր!C15 -> -291.20309 | F4: =-Պարամետրեր!D12*Պարամետրեր!D13*Պարամետրեր!D14*Պարամետրեր!D15 -> -116.38813 | G4: =-Պարամետրեր!E12*Պարամետրեր!E13*Պարամետրեր!E14*Պարամետրեր!E15 -> -48.883012 | H4: ծառայությունների արտահանում × անկում × ավելացված արժեքի մասնաբաժին
A5: 1d Դրամական փոխանցումներ | B5: =-(Պարամետրեր!C16*Պարամետրեր!C18*Պարամետրեր!C20+Պարամետրեր!C17*Պարամետրեր!C19*Պարամետրեր!C21)*Պարամետրեր!C22 -> -163.20624 | C5: =-(Պարամետրեր!D16*Պարամետրեր!D18*Պարամետրեր!D20+Պարամետրեր!D17*Պարամետրեր!D19*Պարամետրեր!D21)*Պարամետրեր!D22 -> -81.60312 | D5: =-(Պարամետրեր!E16*Պարամետրեր!E18*Պարամետրեր!E20+Պարամետրեր!E17*Պարամետրեր!E19*Պարամետրեր!E21)*Պարամետրեր!E22 -> -35.05692 | E5: =-(Պարամետրեր!C16*Պարամետրեր!C18*Պարամետրեր!C20+Պարամետրեր!C17*Պարամետրեր!C19*Պարամետրեր!C21)*Պարամետրեր!C22 -> -163.20624 | F5: =-(Պարամետրեր!D16*Պարամետրեր!D18*Պարամետրեր!D20+Պարամետրեր!D17*Պարամետրեր!D19*Պարամետրեր!D21)*Պարամետրեր!D22 -> -81.60312 | G5: =-(Պարամետրեր!E16*Պարամետրեր!E18*Պարամետրեր!E20+Պարամետրեր!E17*Պարամետրեր!E19*Պարամետրեր!E21)*Պարամետրեր!E22 -> -35.05692 | H5: (միջուկ×անկում×սպառում + այլ×անկում×սպառում) × ներքին մասնաբաժին
A6: 1e Գազ Ռուսաստանից (գին) | B6: =-(Պարամետրեր!C25-Պարամետրեր!C24)*Պարամետրեր!C23*(1-IF(Պարամետրեր!C50<IF(0>0,MIN(Պարամետրեր!C25,Պարամետրեր!C52),Պարամետրեր!C25),Պարամետրեր!C48,0)) -> -251.8785 | C6: =-(Պարամետրեր!D25-Պարամետրեր!D24)*Պարամետրեր!D23*(1-IF(Պարամետրեր!D50<IF(0>0,MIN(Պարամետրեր!D25,Պարամետրեր!D52),Պարամետրեր!D25),Պարամետրեր!D48,0)) -> -99.51375 | D6: =-(Պարամետրեր!E25-Պարամետրեր!E24)*Պարամետրեր!E23*(1-IF(Պարամետրեր!E50<IF(0>0,MIN(Պարամետրեր!E25,Պարամետրեր!E52),Պարամետրեր!E25),Պարամետրեր!E48,0)) -> -93.66 | E6: =-(Պարամետրեր!C26-Պարամետրեր!C24)*Պարամետրեր!C23*(1-IF(Պարամետրեր!C50<IF(Պարամետրեր!C51>0,MIN(Պարամետրեր!C26,Պարամետրեր!C52),Պարամետրեր!C26),Պարամետրեր!C49,0)) -> -237.88525 | F6: =-(Պարամետրեր!D26-Պարամետրեր!D24)*Պարամետրեր!D23*(1-IF(Պարամետրեր!D50<IF(Պարամետրեր!D51>0,MIN(Պարամետրեր!D26,Պարամետրեր!D52),Պարամետրեր!D26),Պարամետրեր!D49,0)) -> -87.80625 | G6: =-(Պարամետրեր!E26-Պարամետրեր!E24)*Պարամետրեր!E23*(1-IF(Պարամետրեր!E50<IF(Պարամետրեր!E51>0,MIN(Պարամետրեր!E26,Պարամետրեր!E52),Պարամետրեր!E26),Պարամետրեր!E49,0)) -> -36.96225 | H6: Δգին × ծավալ × (1 − իրանական գազի մասնաբաժին)
A7: 1e2 Իրանական գազի ուղիղ գնում | B7: =-(Պարամետրեր!C50-Պարամետրեր!C24)*Պարամետրեր!C23*IF(Պարամետրեր!C50<IF(0>0,MIN(Պարամետրեր!C25,Պարամետրեր!C52),Պարամետրեր!C25),Պարամետրեր!C48,0) -> -19.5125 | C7: =-(Պարամետրեր!D50-Պարամետրեր!D24)*Պարամետրեր!D23*IF(Պարամետրեր!D50<IF(0>0,MIN(Պարամետրեր!D25,Պարամետրեր!D52),Պարամետրեր!D25),Պարամետրեր!D48,0) -> -13.54725 | D7: =-(Պարամետրեր!E50-Պարամետրեր!E24)*Պարամետրեր!E23*IF(Պարամետրեր!E50<IF(0>0,MIN(Պարամետրեր!E25,Պարամետրեր!E52),Պարամետրեր!E25),Պարամետրեր!E48,0) -> 2.453 | E7: =-(Պարամետրեր!C50-Պարամետրեր!C24)*Պարամետրեր!C23*IF(Պարամետրեր!C50<IF(Պարամետրեր!C51>0,MIN(Պարամետրեր!C26,Պարամետրեր!C52),Պարամետրեր!C26),Պարամետրեր!C49,0) -> -29.26875 | F7: =-(Պարամետրեր!D50-Պարամետրեր!D24)*Պարամետրեր!D23*IF(Պարամետրեր!D50<IF(Պարամետրեր!D51>0,MIN(Պարամետրեր!D26,Պարամետրեր!D52),Պարամետրեր!D26),Պարամետրեր!D49,0) -> -22.57875 | G7: =-(Պարամետրեր!E50-Պարամետրեր!E24)*Պարամետրեր!E23*IF(Պարամետրեր!E50<IF(Պարամետրեր!E51>0,MIN(Պարամետրեր!E26,Պարամետրեր!E52),Պարամետրեր!E26),Պարամետրեր!E49,0) -> 4.29275 | H7: (Իրանի գին − ներկայիս) × ծավալ × մասնաբաժին. միայն եթե ռուսականից էժան է
A8: 1e3 Ադրբեջանական գազ (գնի առաստաղ) | B8: =(Պարամետրեր!C25-IF(0>0,MIN(Պարամետրեր!C25,Պարամետրեր!C52),Պարամետրեր!C25))*Պարամետրեր!C23*(1-IF(Պարամետրեր!C50<IF(0>0,MIN(Պարամետրեր!C25,Պարամետրեր!C52),Պարամետրեր!C25),Պարամետրեր!C48,0)) -> 0 | C8: =(Պարամետրեր!D25-IF(0>0,MIN(Պարամետրեր!D25,Պարամետրեր!D52),Պարամետրեր!D25))*Պարամետրեր!D23*(1-IF(Պարամետրեր!D50<IF(0>0,MIN(Պարամետրեր!D25,Պարամետրեր!D52),Պարամետրեր!D25),Պարամետրեր!D48,0)) -> 0 | D8: =(Պարամետրեր!E25-IF(0>0,MIN(Պարամետրեր!E25,Պարամետրեր!E52),Պարամետրեր!E25))*Պարամետրեր!E23*(1-IF(Պարամետրեր!E50<IF(0>0,MIN(Պարամետրեր!E25,Պարամետրեր!E52),Պարամետրեր!E25),Պարամետրեր!E48,0)) -> 0 | E8: =(Պարամետրեր!C26-IF(Պարամետրեր!C51>0,MIN(Պարամետրեր!C26,Պարամետրեր!C52),Պարամետրեր!C26))*Պարամետրեր!C23*(1-IF(Պարամետրեր!C50<IF(Պարամետրեր!C51>0,MIN(Պարամետրեր!C26,Պարամետրեր!C52),Պարամետրեր!C26),Պարամետրեր!C49,0)) -> 0 | F8: =(Պարամետրեր!D26-IF(Պարամետրեր!D51>0,MIN(Պարամետրեր!D26,Պարամետրեր!D52),Պարամետրեր!D26))*Պարամետրեր!D23*(1-IF(Պարամետրեր!D50<IF(Պարամետրեր!D51>0,MIN(Պարամետրեր!D26,Պարամետրեր!D52),Պարամետրեր!D26),Պարամետրեր!D49,0)) -> 0 | G8: =(Պարամետրեր!E26-IF(Պարամետրեր!E51>0,MIN(Պարամետրեր!E26,Պարամետրեր!E52),Պարամետրեր!E26))*Պարամետրեր!E23*(1-IF(Պարամետրեր!E50<IF(Պարամետրեր!E51>0,MIN(Պարամետրեր!E26,Պարամետրեր!E52),Պարամետրեր!E26),Պարամետրեր!E49,0)) -> 0 | H8: (Ռուսաստանի գին − առաստաղ) × ծավալ. առաստաղ = ադրբեջանական գազի գինը, եթե այն հասանելի է
A9: 1e4 Գազ ԹՐԻՓՓ-ով տարանցման դիմաց | B9: =0 -> 0 | C9: =0 -> 0 | D9: =0 -> 0 | E9: =Պարամետրեր!C53*Պարամետրեր!C54*IF(Պարամետրեր!C51>0,MIN(Պարամետրեր!C26,Պարամետրեր!C52),Պարամետրեր!C26) -> 0 | F9: =Պարամետրեր!D53*Պարամետրեր!D54*IF(Պարամետրեր!D51>0,MIN(Պարամետրեր!D26,Պարամետրեր!D52),Պարամետրեր!D26) -> 3.9725 | G9: =Պարամետրեր!E53*Պարամետրեր!E54*IF(Պարամետրեր!E51>0,MIN(Պարամետրեր!E26,Պարամետրեր!E52),Պարամետրեր!E26) -> 7.3 | H9: տարանցում × 5% × գին (գազ, որը պետք չէ գնել)
A10: 1f ԵԱՏՄ-ից ներմուծման թանկացում | B10: =-Պարամետրեր!C27*Պարամետրեր!C28 -> -211.16 | C10: =-Պարամետրեր!D27*Պարամետրեր!D28 -> -105.58 | D10: =-Պարամետրեր!E27*Պարամետրեր!E28 -> -42.232 | E10: =-Պարամետրեր!C27*Պարամետրեր!C28*Պարամետրեր!C29 -> -105.58 | F10: =-Պարամետրեր!D27*Պարամետրեր!D28*Պարամետրեր!D29 -> -52.79 | G10: =-Պարամետրեր!E27*Պարամետրեր!E28*Պարամետրեր!E29 -> -21.116 | H10: ներմուծում × թանկացում
A11: 1g Սեփական մաքսատուրքեր՝ ԵԱՏՄ միասնական մաքսային սակագնի փոխարեն | B11: =0 -> 0 | C11: =0 -> 0 | D11: =0 -> 0 | E11: =Պարամետրեր!C30*Պարամետրեր!C2 -> 0 | F11: =Պարամետրեր!D30*Պարամետրեր!D2 -> 29.2 | G11: =Պարամետրեր!E30*Պարամետրեր!E2 -> 58.4 | H11: մասնաբաժին ՀՆԱ-ում × ՀՆԱ
A12: 1h Ռիսկեր (1–3 տարի) / խաղաղություն և ԵՄ-ի հետ մերձեցում (10 տարի) | B12: =Պարամետրեր!C31*Պարամետրեր!C2 -> -292 | C12: =Պարամետրեր!D31*Պարամետրեր!D2 -> -146 | D12: =Պարամետրեր!E31*Պարամետրեր!E2 -> 0 | E12: =Պարամետրեր!C32*Պարամետրեր!C2 -> 146 | F12: =Պարամետրեր!D32*Պարամետրեր!D2 -> 438 | G12: =Պարամետրեր!E32*Պարամետրեր!E2 -> 1022 | H12: մասնաբաժին ՀՆԱ-ում × ՀՆԱ
A13: 2a Նոր արտահանում Թուրքիա և Ադրբեջան | B13: =(Պարամետրեր!C33+Պարամետրեր!C34*Պարամետրեր!C35)*Պարամետրեր!C36*Պարամետրեր!C37*Պարամետրեր!C38 -> 21.526808 | C13: =(Պարամետրեր!D33+Պարամետրեր!D34*Պարամետրեր!D35)*Պարամետրեր!D36*Պարամետրեր!D37*Պարամետրեր!D38 -> 35.878012 | D13: =(Պարամետրեր!E33+Պարամետրեր!E34*Պարամետրեր!E35)*Պարամետրեր!E36*Պարամետրեր!E37*Պարամետրեր!E38 -> 50.229217 | E13: =(Պարամետրեր!C33+Պարամետրեր!C34*Պարամետրեր!C35)*Պարամետրեր!C36*Պարամետրեր!C37 -> 65.23275 | F13: =(Պարամետրեր!D33+Պարամետրեր!D34*Պարամետրեր!D35)*Պարամետրեր!D36*Պարամետրեր!D37 -> 108.72125 | G13: =(Պարամետրեր!E33+Պարամետրեր!E34*Պարամետրեր!E35)*Պարամետրեր!E36*Պարամետրեր!E37 -> 152.20975 | H13: (Թուրքիա + մասնաբաժին×արտահանում) × նորույթ × ավելացված արժեք [× ձեռքբերում]
A14: 2b Տրանսպորտային խնայողություն | B14: =Պարամետրեր!C39*Պարամետրեր!C38 -> 12.54 | C14: =Պարամետրեր!D39*Պարամետրեր!D38 -> 26.4 | D14: =Պարամետրեր!E39*Պարամետրեր!E38 -> 49.5 | E14: =Պարամետրեր!C39 -> 38 | F14: =Պարամետրեր!D39 -> 80 | G14: =Պարամետրեր!E39 -> 150 | H14: խնայողություն [× ձեռքբերում]
A15: 2c Ավելի էժան ներմուծում Թուրքիայից | B15: =Պարամետրեր!C40*Պարամետրեր!C41*Պարամետրեր!C38 -> 9.9 | C15: =Պարամետրեր!D40*Պարամետրեր!D41*Պարամետրեր!D38 -> 19.8 | D15: =Պարամետրեր!E40*Պարամետրեր!E41*Պարամետրեր!E38 -> 29.7 | E15: =Պարամետրեր!C40*Պարամետրեր!C41 -> 30 | F15: =Պարամետրեր!D40*Պարամետրեր!D41 -> 60 | G15: =Պարամետրեր!E40*Պարամետրեր!E41 -> 90 | H15: ներմուծում × էժանացում [× ձեռքբերում]
A16: 3 TRIPP | B16: =Պարամետրեր!C42 -> 20 | C16: =Պարամետրեր!D42 -> 40 | D16: =Պարամետրեր!E42 -> 80 | E16: =Պարամետրեր!C43 -> 2 | F16: =Պարամետրեր!D43 -> 10 | G16: =Պարամետրեր!E43 -> 40 | H16: շինարարություն / տարանցում
A17: 4a ԵՄ և միջազգային ֆինանսական կառույցների ֆինանսավորում | B17: =Պարամետրեր!C44*Պարամետրեր!C46 -> 30 | C17: =Պարամետրեր!D44*Պարամետրեր!D46 -> 90 | D17: =Պարամետրեր!E44*Պարամետրեր!E46 -> 180 | E17: =0 -> 0 | F17: =0 -> 0 | G17: =0 -> 0 | H17: ֆինանսավորում × ներքին մասնաբաժին
A18: 4b DCFTA-ին նման ռեժիմ | B18: =0 -> 0 | C18: =0 -> 0 | D18: =0 -> 0 | E18: =Պարամետրեր!C45*Պարամետրեր!C2 -> 29.2 | F18: =Պարամետրեր!D45*Պարամետրեր!D2 -> 146 | G18: =Պարամետրեր!E45*Պարամետրեր!E2 -> 292 | H18: մասնաբաժին ՀՆԱ-ում × ՀՆԱ
A19: Երկրորդ փուլի ազդեցություն (բազմարկիչ) | B19: =(B2+B3+B4+B5+B6+B7+B8+B9+B10+B13+B14+B15+B16+B17)*(Պարամետրեր!C47-1) -> -557.69911 | C19: =(C2+C3+C4+C5+C6+C7+C8+C9+C10+C13+C14+C15+C16+C17)*(Պարամետրեր!D47-1) -> -262.86448 | D19: =(D2+D3+D4+D5+D6+D7+D8+D9+D10+D13+D14+D15+D16+D17)*(Պարամետրեր!E47-1) -> -41.684379 | E19: =(E2+E3+E4+E5+E6+E7+E8+E9+E10+E13+E14+E15+E16+E17)*(Պարամետրեր!C47-1) -> -430.60071 | F19: =(F2+F3+F4+F5+F6+F7+F8+F9+F10+F13+F14+F15+F16+F17)*(Պարամետրեր!D47-1) -> -124.94283 | G19: =(G2+G3+G4+G5+G6+G7+G8+G9+G10+G13+G14+G15+G16+G17)*(Պարամետրեր!E47-1) -> 74.989137 | H19: պահանջարկի և եկամտի ցնցումների գումար (բոլորը, բացի 1g, 1h, 4b) × (բազմարկիչ − 1)
A20: ԸՆԴԱՄԵՆԸ, մլն $ | B20: =SUM(B2:B19) -> -2416.2696 | C20: =SUM(C2:C19) -> -1147.2478 | D20: =SUM(D2:D19) -> -158.77533 | E20: =SUM(E2:E19) -> -1464.9533 | F20: =SUM(F2:F19) -> 137.29418 | G20: =SUM(G2:G19) -> 1658.0328
A21: ԸՆԴԱՄԵՆԸ, % ՀՆԱ 2025 | B21: =B20/Պարամետրեր!C2 -> -0.082748961 | C21: =C20/Պարամետրեր!D2 -> -0.039289309 | D21: =D20/Պարամետրեր!E2 -> -0.0054375114 | E21: =E20/Պարամետրեր!C2 -> -0.050169633 | F21: =F20/Պարամետրեր!D2 -> 0.0047018554 | G21: =G20/Պարամետրեր!E2 -> 0.056781944

Sheet Բացատրություններ
A1: Մոդել՝ ազդեցությունը Հայաստանի ՀՆԱ-ի մակարդակի վրա (մլն $ տարեկան)՝ 2025 թ. համեմատ, հետևյալ սցենարում. դուրս գալ ԵԱՏՄ-ից (Անկախ պետությունների համագործակցության ազատ առևտրի գոտին պահպանվում է), ԹՐԻՓՓ-ը կառուցված է, Թուրքիայի և Ադրբեջանի հետ սահմանները բաց են, մերձեցում ԵՄ-ին։
A2: Մեթոդ՝ համախառն հոսքերը վերածվում են ավելացված արժեքի (ավելացված արժեքի մասնաբաժին, վերաարտահանման մարժա, սպառման ներքին մասնաբաժին). պահանջարկի ցնցումները բազմապատկվում են երկրորդ փուլի բազմարկիչով։
A3: «1–3 տարի»՝ մակարդակը անցումային շրջանի ամենավատ տարում. «10 տարի»՝ ազդեցության տարեկան մակարդակը 10 տարի անց՝ 2025 թ. համեմատ (ոչ թե 10 տարվա կորուստների կամ օգուտների գումարը)։
A4: «Պարամետրեր» թերթի կապույտ բջիջները մուտքային տվյալներ են. դրանք կարելի է փոխել, և հաշվարկը կվերահաշվարկվի։
A5: Գազը և ներմուծման թանկացումը իրական եկամտի (առևտրի պայմանների) կորուստ են՝ հաշվառված 1:1։
A6: Չեն մոդելավորվում՝ դրամի փոխարժեքը, գնաճը, բյուջեն, պարտքը, վերաբաշխումն ըստ ճյուղերի. սա CGE մոդել չէ։
A7: Պատրաստել է Claude-ը (Anthropic)՝ businessdaily.am-ի համար, 25.10.2026։
A8: Գազ (թարմացված է 26.10.2026). հաշվառված են իրանական գազի ուղիղ գնումը (միայն եթե ռուսականից էժան է), ադրբեջանական գազը՝ որպես ռուսական գազի գնի առաստաղ (միայն խաղաղության դեպքում, 10 տարի անց), և ԹՐԻՓՓ-ով դեպի Նախիջևան տարանցման դիմաց գազով վճարը։
A9: Զգայունություն (օրինակ, ոչ թե ակնկալվող խնայողություն). եթե Ռուսաստանը գինը բարձրացնի մինչև $300 (ինչպես ԵԱՏՄ զեկույցում), իսկ խաղաղությունը կնքված լինի, և $262 գնով ադրբեջանական գազը դառնա իրական այլընտրանք, ռուսական գազի ամբողջ ծավալի (2,23 մլրդ մ³) գինը չի կարող գերազանցել $262-ը. ուղղակի խնայողությունը՝ տարեկան մոտ $85 մլն, իսկ իրանական գազից հրաժարման և երկրորդ փուլի ազդեցության հետ միասին՝ ՀՆԱ-ի մոտ +0,3 տոկոսային կետ հոռետեսական տարբերակի համեմատ 10 տարի անց։ Հայաստանին հասանելի ադրբեջանական գազի ծավալներն անհայտ են։
A10: Սահմանափակումներ. ավելացված արժեքի մասնաբաժինները, սպառման ներքին մասնաբաժինը և բազմարկիչը հաշվարկված են սինթետիկ «ծախսեր–թողարկում» աղյուսակով («Ծախսեր–թողարկում» և «Ծախսեր–թողարկում, մատրիցներ» թերթեր), սակայն ճյուղերի միջև կապերը 2006 թ. վիճակով են. արտահանման, փոխանցումների և ծառայությունների անկումը և ներդրումային էֆեկտը սցենարային ենթադրություններ են. վերաարտահանումն առանձնացված է ըստ ապրանքային խմբերի, այլ ոչ թե ներմուծման և վերավաճառքի հաստատված գործառնությունների. գազը և ներմուծման թանկացումը հաշվառված են ուղղակիորեն՝ առանց պահանջարկի արձագանքի, սուբսիդիաների և գներին փոխանցման։ Բազային տարբերակը օրինակային է, ոչ թե կանխատեսում։
A11: 27.10.2026. ավելացված արժեքի մասնաբաժինները (va_trad, va_svc), սպառման ներքին մասնաբաժինը (dom_content) և բազմարկիչը (mult) այլևս ձեռքով չեն սահմանվում. դրանք հաշվարկված են 2025 թ. սինթետիկ «ծախսեր–թողարկում» աղյուսակով («Ծախսեր–թողարկում» թերթ)։
A12: Չի մտնում ՀՆԱ-ի հաշվարկի մեջ (տեղեկատվական, 2025 թ. բյուջեի կատարման հաշվետվություն, ARLIS 226817). Հայաստանը հավաքել է 124 մլրդ դրամ ներմուծման մաքսատուրք, ԵԱՏՄ մյուս երկրներին փոխանցել է 122,5 մլրդ (104,3 մլրդ՝ Ռուսաստանին), բաշխմամբ ստացել է 69,5 մլրդ. բյուջեի թերհավաքագրումը՝ 54,5 մլրդ դրամ (≈ $140 մլն, ՀՆԱ-ի 0,5%)։ 2025 թ. պարտք. վճարումներ Ռուսաստանին՝ $45,8 մլն, Կայունացման և զարգացման եվրասիական հիմնադրամին՝ $33,3 մլն։ Կախվածություններ. ատոմակայանը՝ էլեկտրաէներգիայի արտադրության 29,1%, ջերմաէլեկտրակայանները՝ 33,6% (Արմստատ). միջուկային վառելիք՝ $22,2 մլն, 100%-ը՝ Ռուսաստանից. ցորեն՝ 333 հազ. տ, 99,4%-ը՝ Ռուսաստանից (մաքսային տվյալներ)։

Sheet Զգայունություն
A1: Ուշադրություն. այս թերթի արժեքները ֆիքսված են. դրանք հաշվարկված են առանձին sens.py սկրիպտով (տեքստը՝ «Սկրիպտներ» թերթում) և չեն վերահաշվարկվում պարամետրերը փոխելիս։ Հիմնական սցենարները «Հաշվարկ» թերթում վերահաշվարկվում են բանաձևերով։
A2: Բազային տարբերակի զգայունություն. յուրաքանչյուր պարամետր հերթով դրվում է հոռետեսական և լավատեսական արժեքի վրա, մնացածը՝ բազային։ Արժեքները հաշվարկված են sens.py սկրիպտով, % ՀՆԱ 2025 թ.։
A3: Բազային տարբերակ. ամենավատ տարի՝ -3.93%, 10 տարի անց՝ 0.47% (ազդեցության տարեկան մակարդակը՝ 2025 թ. համեմատ, ոչ թե 10 տարվա գումարը)։
A5: Պարամետր | B5: Հոռետես. արժեք | C5: Բազային | D5: Լավատես. արժեք | E5: Ամենավատ տարին հոռետես. դեպքում | F5: Ամենավատ տարին լավատես. դեպքում | G5: Միջակայք, տոկոսային կետ | H5: 10 տարի՝ հոռետես. դեպքում | I5: 10 տարի՝ լավատես. դեպքում | J5: Միջակայք, տոկոսային կետ
A6: Խաղաղություն և ԵՄ-ի հետ մերձեցում. ներդրումների սցենարային մակարդակ | B6: 0.005 | C6: 0.015 | D6: 0.035 | E6: -3.93 | F6: -3.93 | G6: 0 | H6: -0.53 | I6: 2.47 | J6: 3
A7: DCFTA-ին նման ռեժիմ | B7: 0.001 | C7: 0.005 | D7: 0.01 | E7: -3.93 | F7: -3.93 | G7: 0 | H7: 0.07 | I7: 0.97 | J7: 0.9
A8: Երկրորդ փուլի բազմարկիչ | B8: 1 | C8: 1.356 | D8: 1.529 | E8: -3.03 | F8: -4.37 | G8: 1.34 | H8: 0.9 | I8: 0.26 | J8: 0.64
A9: Ավանդական արտահանման անկումը ԵԱՏՄ | B9: 0.396 | C9: 0.3 | D9: 0.15 | E9: -4.42 | F9: -3.16 | G9: 1.26 | H9: 0.23 | I9: 0.85 | J9: 0.63
A10: Արտահանման անկման մասնաբաժինը 10 տարի անց | B10: 0.75 | C10: 0.5 | D10: 0.35 | E10: -3.93 | F10: -3.93 | G10: 0 | H10: 0.09 | I10: 0.7 | J10: 0.61
A11: Ծառայությունների արտահանման անկում | B11: 0.417 | C11: 0.25 | D11: 0.15 | E11: -4.65 | F11: -3.5 | G11: 1.15 | H11: 0.11 | I11: 0.69 | J11: 0.58
A12: Տրանսպորտային խնայողություն | B12: 38 | C12: 80 | D12: 150 | E12: -3.99 | F12: -3.82 | G12: 0.17 | H12: 0.28 | I12: 0.8 | J12: 0.52
A13: Ռուսական գազի գինը, 10 տարի | B13: 300 | C13: 227 | D13: 200 | E13: -3.93 | F13: -3.93 | G13: 0 | H13: 0.2 | I13: 0.72 | J13: 0.52
A14: Առևտրային փոխանցումների մասնաբաժինը, որն ուղղվում է սպառմանը | B14: 0 | C14: 0.05 | D14: 0.2 | E14: -3.82 | F14: -4.27 | G14: 0.45 | H14: 0.58 | I14: 0.13 | J14: 0.45
A15: Ծառայությունների անկման մասնաբաժինը 10 տարի անց | B15: 0.75 | C15: 0.5 | D15: 0.35 | E15: -3.93 | F15: -3.93 | G15: 0 | H15: 0.2 | I15: 0.63 | J15: 0.43
A16: Փոխանցումների «միջուկի» անկում | B16: 0.5 | C16: 0.25 | D16: 0.1 | E16: -4.2 | F16: -3.77 | G16: 0.43 | H16: 0.2 | I16: 0.63 | J16: 0.43
A17: Վերաարտահանման մարժա | B17: 0.08 | C17: 0.05 | D17: 0.03 | E17: -4.17 | F17: -3.77 | G17: 0.41 | H17: 0.23 | I17: 0.63 | J17: 0.41
... A38: Ադրբեջանական գազի գինը | B38: 262 | C38: 262 | D38: 230 | E38: -3.93 | F38: -3.93 | G38: 0 | H38: 0.47 | I38: 0.47 | J38: 0
A40: «Ծախսեր–թողարկում» աղյուսակից ստացված գործակիցների համար միջակայքը «Ծախսեր–թողարկում» թերթի կայունության ստուգումներն են. բազմարկիչը՝ 1,0-ից (երկրորդ փուլի ազդեցությունն ամբողջությամբ չեզոքացվում է Կենտրոնական բանկի քաղաքականությամբ) մինչև 1,53 (α = սպառում / ՀՆԱ՝ առանց հարկերի ճշգրտման)։
A41: Եզրակացություն. ցանկացած մեկ պարամետրի փոփոխության դեպքում ամենավատ տարին՝ ՀՆԱ-ի −3,0%-ից մինչև −4,7%։ 10 տարի անց ազդեցության նշանը որոշվում է ներդրումների վերաբերյալ ենթադրությամբ. ՀՆԱ-ի 0,5%-ի դեպքում բազային տարբերակը՝ −0,5%, 3,5%-ի դեպքում՝ +2,5%։

Sheet Ծախսեր–թողարկում
A1: Հայաստանի սինթետիկ «ծախսեր–թողարկում» աղյուսակ, 2025 թ.՝ մեր հաշվարկը, ոչ թե պաշտոնական աղյուսակ։ Սկրիպտ՝ io_build.py։
A2: Մեթոդ՝ ծախսերի գործակիցներն ըստ սյունակների վերցված են Արմստատի 2006 թ. օգտագործման աղյուսակից (փոխարկված հիմնական գներով՝ ռեսուրսների աղյուսակի մարժաներով) և վերահաշվարկված այնպես, որ յուրաքանչյուր ճյուղի միջանկյալ սպառման մասնաբաժինը համընկնի Արմստատի 2025 թ. տվյալներին. յուրաքանչյուր արտադրանքի օգտագործման մեջ ներմուծման մասնաբաժինը՝ 2025 թ. (ապրանքների համար՝ մաքսային տվյալներ, ծառայությունների համար՝ Կենտրոնական բանկի վճարային հաշվեկշիռ, առանց $3,19 մլրդ վերաարտահանման). ավելացված արժեքը թողարկման միավորի հաշվով՝ Արմստատ 2025 թ.։
A4: Ճյուղ | B4: Ավելացված արժեք / թողարկում, 2025 | C4: Ներքին արտադրանքի մասնաբաժինը օգտագործման մեջ | D4: Ամբողջական ներքին ավելացված արժեքը վերջնական պահանջարկի 1 դրամի հաշվով
A5: Գյուղատնտեսություն և ձկնորսություն | B5: 0.6 | C5: 0.872 | D5: 0.799
A6: Հանքագործական արդյունաբերություն (ներառյալ գազը) | B6: 0.626 | C6: 0.179 | D6: 0.801
A7: Մշակող արդյունաբերություն | B7: 0.412 | C7: 0.31 | D7: 0.686
A8: Էլեկտրաէներգիա, գազամատակարարում, ջուր | B8: 0.582 | C8: 0.998 | D8: 0.859
A9: Շինարարություն | B9: 0.472 | C9: 1 | D9: 0.697
A10: Առևտուր | B10: 0.741 | C10: 1 | D10: 0.856
A11: Հյուրանոցներ և ռեստորաններ | B11: 0.581 | C11: 1 | D11: 0.845
A12: Տրանսպորտ, կապ, ՏՏ | B12: 0.72 | C12: 0.578 | D12: 0.867
A13: Ֆինանսներ | B13: 0.8 | C13: 1 | D13: 0.987
A14: Անշարժ գույք և գործարար ծառայություններ | B14: 0.836 | C14: 0.806 | D14: 0.924
A15: Պետական կառավարում | B15: 0.77 | C15: 1 | D15: 0.894
A16: Կրթություն | B16: 0.775 | C16: 1 | D16: 0.911
... A18: Այլ ծառայություններ | B18: 0.766 | C18: 1 | D18: 0.923
A20: Ավելացված արժեքի մասնաբաժինը ԵԱՏՄ ավանդական արտահանման մեջ (va_trad) | B20: 0.715
A21: Ավելացված արժեքի մասնաբաժինը ծառայությունների արտահանման մեջ (va_svc) | B21: 0.719
A22: Ներքին ավելացված արժեքը սպառման 1 դրամի հաշվով (dom_content) | B22: 0.48
A23: Սպառում / երկրի տնօրինվող եկամուտ | B23: 0.734
A24: Բյուջեի եկամուտներ / ՀՆԱ | B24: 0.254
A25: α | B25: 0.547
A26: Ինդուկցված բազմարկիչ (mult) | B26: 1.356
A28: Աղբյուրներ՝ Արմստատ, Input-Output table 2006 (armstat.am/file/doc/99476198.xls). թողարկումը, միջանկյալ սպառումը և ՀՆԱ-ն ըստ ճյուղերի՝ եռամսյակային (99570873.xls, 99570868.xls, 99570863.xls). ՀՆԱ-ն ըստ ծախսերի (99570853.xls).
A29: Հայաստանի Կենտրոնական բանկ, վճարային հաշվեկշիռ (ընթացիկ հաշիվ), 2025 թ., Պետական եկամուտների կոմիտե, ներմուծումն ըստ ապրանքների և երկրների 2025 թ., արտահանումն ըստ ապրանքների և երկրների 2025 թ., բյուջեի եկամուտները 2025 թ.՝ բյուջեի կատարման հաշվետվություն (ARLIS, 226817)։
A30: Կայունության ստուգում. առանց կառուցվածքը 2025 թ. վերահաշվարկելու՝ 0,686 / 0,472 / 1,349. ներմուծում +20%՝ 0,675 / 0,424 / 1,302. ներմուծում −20%՝ 0,757 / 0,541 / 1,421 (va_trad / dom_content / mult)։
A31: Սահմանափակումներ. ճյուղերի միջև կապերը 2006 թ. վիճակով են. ՏՏ-ն դասվել է «տրանսպորտ և կապ» խմբին. ավանդական արտահանման կշիռները՝ 2025 թ. մաքսային տարեկան տվյալներ (արտահանումը ԵԱՏՄ առանց վերաարտահանման՝ $1,52 մլրդ՝ մոդելի պարամետրի $1,54 մլրդ-ի դիմաց)։

Sheet Ծախսեր–թողարկում, մատրիցներ
A1: 2025 թ. սինթետիկ «ծախսեր–թողարկում» աղյուսակի ելակետային տվյալները և մատրիցները (արտահանված io_build.py-ից)՝ ավելացված արժեքի մասնաբաժինների և բազմարկչի անկախ ստուգման համար
A3: 1. Վեկտորներ ըստ ճյուղերի, մլն դրամ, 2025 թ.
A4: Կոդ | B4: Ճյուղ | C4: Թողարկում x (Արմստատ) | D4: Միջանկյալ սպառում (Արմստատ) | E4: Ավելացված արժեք (Արմստատ) | F4: Ներմուծում M (մաքսային տվյալներ + վճարային հաշվեկշիռ, առանց վերաարտահանման) | G4: Արտահանում E (վճարային հաշվեկշիռ, առանց վերաարտահանման) | H4: Օգտագործումը երկրի ներսում x+M−E | I4: Ներքին արտադրանքի մասնաբաժին d
A5: A | B5: Գյուղատնտեսություն և ձկնորսություն | C5: 1456289.5 | D5: 582515.7 | E5: 873773.8 | F5: 191055.85 | G5: 156335.72 | H5: 1491009.6 | I5: 0.872
A6: Cmin | B6: Հանքագործական արդյունաբերություն (ներառյալ գազը) | C6: 557585.9 | D6: 208349.7 | E6: 349236.2 | F6: 304811.83 | G6: 490935.78 | H6: 371461.95 | I6: 0.179
A7: Dman | B7: Մշակող արդյունաբերություն | C7: 2860528.8 | D7: 1681655.4 | E7: 1178873.4 | F7: 3335567.6 | G7: 1360814 | H7: 4835282.4 | I7: 0.31
A8: E | B8: Էլեկտրաէներգիա, գազամատակարարում, ջուր | C8: 493756.7 | D8: 206408.6 | E8: 287348.1 | F8: 1102.494 | G8: 32846.965 | H8: 462012.23 | I8: 0.998
A9: F | B9: Շինարարություն | C9: 1579565.7 | D9: 834322.7 | E9: 745243 | F9: 0 | G9: 0 | H9: 1579565.7 | I9: 1
A10: G | B10: Առևտուր | C10: 2202238.4 | D10: 570182.5 | E10: 1632055.9 | F10: 0 | G10: 0 | H10: 2202238.4 | I10: 1
A11: H | B11: Հյուրանոցներ և ռեստորաններ | C11: 436427.9 | D11: 183020.2 | E11: 253407.7 | F11: 0 | G11: 0 | H11: 436427.9 | I11: 1
A12: I | B12: Տրանսպորտ, կապ, ՏՏ | C12: 1504569.3 | D12: 421901.8 | E12: 1082667.5 | F12: 463503.23 | G12: 869164.98 | H12: 1098907.5 | I12: 0.578
A13: J | B13: Ֆինանսներ | C13: 1373268.3 | D13: 274084 | E13: 1099184.3 | F13: 0 | G13: 0 | H13: 1373268.3 | I13: 1
A14: K | B14: Անշարժ գույք և գործարար ծառայություններ | C14: 1597027.5 | D14: 262192.7 | E14: 1334834.8 | F14: 298732.06 | G14: 359197.36 | H14: 1536562.2 | I14: 0.806
A15: L | B15: Պետական կառավարում | C15: 561766.7 | D15: 129035 | E15: 432731.7 | F15: 0 | G15: 0 | H15: 561766.7 | I15: 1
A16: M | B16: Կրթություն | C16: 346406.8 | D16: 77980.4 | E16: 268426.4 | F16: 0 | G16: 0 | H16: 346406.8 | I16: 1
... A18: O | B18: Այլ ծառայություններ | C18: 510636.7 | D18: 119550.6 | E18: 391086.1 | F18: 0 | G18: 0 | H18: 510636.7 | I18: 1
A20: 2. Ուղղակի ծախսերի գործակիցներ A, 2006 թ. (Արմստատի օգտագործման աղյուսակ, հիմնական գներ)
A21: տող՝ արտադրանք / սյունակ՝ ճյուղ | C21: A | D21: Cmin | E21: Dman | F21: E | G21: F | H21: G | I21: H | J21: I | K21: J | L21: K | M21: L | N21: M | O21: N | P21: O
A22: A | B22: Գյուղատնտեսություն և ձկնորսություն | C22: 0.0897 | D22: 0 | E22: 0.0482 | F22: 0 | G22: 0.0003 | H22: 0.0024 | I22: 0.0124 | J22: 0 | K22: 0 | L22: 0.003 | M22: 0.074 | N22: 0.0013 | O22: 0.0004 | P22: 0.0008
A23: Cmin | B23: Հանքագործական արդյունաբերություն (ներառյալ գազը) | C23: 0.0003 | D23: 0.0375 | E23: 0.0223 | F23: 0.0002 | G23: 0.0502 | H23: 0.0008 | I23: 0.0004 | J23: 0.0024 | K23: 0 | L23: 0.0034 | M23: 0.0037 | N23: 0.0001 | O23: 0.0001 | P23: 0.0004
A24: Dman | B24: Մշակող արդյունաբերություն | C24: 0.1537 | D24: 0.1891 | E24: 0.28 | F24: 0.0743 | G24: 0.1993 | H24: 0.2033 | I24: 0.1922 | J24: 0.102 | K24: 0.0075 | L24: 0.1021 | M24: 0.1869 | N24: 0.0516 | O24: 0.2292 | P24: 0.0707
A25: E | B25: Էլեկտրաէներգիա, գազամատակարարում, ջուր | C25: 0.0126 | D25: 0.0315 | E25: 0.0517 | F25: 0.144 | G25: 0.0076 | H25: 0.0175 | I25: 0.0691 | J25: 0.0111 | K25: 0.0012 | L25: 0.0223 | M25: 0.0317 | N25: 0.0299 | O25: 0.0534 | P25: 0.1196
A26: F | B26: Շինարարություն | C26: 0.0024 | D26: 0.0085 | E26: 0.0067 | F26: 0.0165 | G26: 0.0811 | H26: 0.0029 | I26: 0.0349 | J26: 0.0362 | K26: 0 | L26: 0.0225 | M26: 0.0047 | N26: 0.032 | O26: 0.017 | P26: 0.0426
A27: G | B27: Առևտուր | C27: 0.0476 | D27: 0.1037 | E27: 0.0802 | F27: 0.0198 | G27: 0.0578 | H27: 0.0567 | I27: 0.0529 | J27: 0.0275 | K27: 0.0033 | L27: 0.0324 | M27: 0.0553 | N27: 0.0163 | O27: 0.0626 | P27: 0.0249
A28: H | B28: Հյուրանոցներ և ռեստորաններ | C28: 0 | D28: 0.0002 | E28: 0.0013 | F28: 0.001 | G28: 0.0011 | H28: 0.0019 | I28: 0.003 | J28: 0.0031 | K28: 0.0007 | L28: 0.0054 | M28: 0.0293 | N28: 0.0022 | O28: 0.002 | P28: 0.0073
A29: I | B29: Տրանսպորտ, կապ, ՏՏ | C29: 0.0167 | D29: 0.0101 | E29: 0.0177 | F29: 0.035 | G29: 0.0133 | H29: 0.0235 | I29: 0.0254 | J29: 0.1259 | K29: 0.004 | L29: 0.024 | M29: 0.0829 | N29: 0.0141 | O29: 0.0144 | P29: 0.0296
A30: J | B30: Ֆինանսներ | C30: 0.0065 | D30: 0.0036 | E30: 0.0154 | F30: 0.0148 | G30: 0.0066 | H30: 0.0175 | I30: 0.1167 | J30: 0.0071 | K30: 0.1696 | L30: 0.0029 | M30: 0.0177 | N30: 0.0025 | O30: 0.0043 | P30: 0.0024
A31: K | B31: Անշարժ գույք և գործարար ծառայություններ | C31: 0.0026 | D31: 0.001 | E31: 0.0114 | F31: 0.0117 | G31: 0.0037 | H31: 0.01 | I31: 0.0597 | J31: 0.0569 | K31: 0.0055 | L31: 0.0366 | M31: 0.0153 | N31: 0.0136 | O31: 0.0069 | P31: 0.0274
A32: L | B32: Պետական կառավարում | C32: 0.0001 | D32: 0.0085 | E32: 0.0006 | F32: 0.0042 | G32: 0 | H32: 0.0004 | I32: 0.012 | J32: 0.0008 | K32: 0.0009 | L32: 0.0032 | M32: 0 | N32: 0.0026 | O32: 0.0004 | P32: 0.0047
A33: M | B33: Կրթություն | C33: 0 | D33: 0 | E33: 0 | F33: 0.0001 | G33: 0 | H33: 0 | I33: 0 | J33: 0.0001 | K33: 0.0008 | L33: 0.0023 | M33: 0.015 | N33: 0.0033 | O33: 0.0002 | P33: 0.0118
... A35: O | B35: Այլ ծառայություններ | C35: 0.0001 | D35: 0.0003 | E35: 0.0021 | F35: 0.0005 | G35: 0.0002 | H35: 0.0002 | I35: 0.0038 | J35: 0.0008 | K35: 0 | L35: 0.004 | M35: 0.0003 | N35: 0.0057 | O35: 0.0033 | P35: 0.0089
A37: 3. Ուղղակի ծախսերի գործակիցներ A, 2025 թ. (A2006-ի սյունակները վերահաշվարկված են 2025 թ. միջանկյալ սպառման մասնաբաժնով)
A38: տող՝ արտադրանք / սյունակ՝ ճյուղ | C38: A | D38: Cmin | E38: Dman | F38: E | G38: F | H38: G | I38: H | J38: I | K38: J | L38: K | M38: L | N38: M | O38: N | P38: O
A39: A | B39: Գյուղատնտեսություն և ձկնորսություն | C39: 0.108 | D39: 0 | E39: 0.0527 | F39: 0 | G39: 0.0004 | H39: 0.0018 | I39: 0.0089 | J39: 0 | K39: 0 | L39: 0.0018 | M39: 0.0329 | N39: 0.0017 | O39: 0.0003 | P39: 0.0005
A40: Cmin | B40: Հանքագործական արդյունաբերություն (ներառյալ գազը) | C40: 0.0004 | D40: 0.0356 | E40: 0.0244 | F40: 0.0003 | G40: 0.0629 | H40: 0.0006 | I40: 0.0003 | J40: 0.0018 | K40: 0 | L40: 0.0021 | M40: 0.0016 | N40: 0.0001 | O40: 0.0001 | P40: 0.0003
A41: Dman | B41: Մշակող արդյունաբերություն | C41: 0.185 | D41: 0.1794 | E41: 0.3061 | F41: 0.0964 | G41: 0.2499 | H41: 0.1562 | I41: 0.1383 | J41: 0.0765 | K41: 0.0077 | L41: 0.0634 | M41: 0.0831 | N41: 0.0659 | O41: 0.1688 | P41: 0.0471
A42: E | B42: Էլեկտրաէներգիա, գազամատակարարում, ջուր | C42: 0.0152 | D42: 0.0299 | E42: 0.0566 | F42: 0.1869 | G42: 0.0095 | H42: 0.0135 | I42: 0.0498 | J42: 0.0083 | K42: 0.0012 | L42: 0.0138 | M42: 0.0141 | N42: 0.0382 | O42: 0.0394 | P42: 0.0797
A43: F | B43: Շինարարություն | C43: 0.0029 | D43: 0.008 | E43: 0.0073 | F43: 0.0214 | G43: 0.1017 | H43: 0.0022 | I43: 0.0251 | J43: 0.0271 | K43: 0 | L43: 0.014 | M43: 0.0021 | N43: 0.0409 | O43: 0.0125 | P43: 0.0284
A44: G | B44: Առևտուր | C44: 0.0573 | D44: 0.0984 | E44: 0.0876 | F44: 0.0257 | G44: 0.0725 | H44: 0.0435 | I44: 0.0381 | J44: 0.0207 | K44: 0.0034 | L44: 0.0201 | M44: 0.0246 | N44: 0.0208 | O44: 0.0461 | P44: 0.0166
A45: H | B45: Հյուրանոցներ և ռեստորաններ | C45: 0 | D45: 0.0002 | E45: 0.0015 | F45: 0.0013 | G45: 0.0013 | H45: 0.0015 | I45: 0.0022 | J45: 0.0023 | K45: 0.0007 | L45: 0.0034 | M45: 0.013 | N45: 0.0028 | O45: 0.0014 | P45: 0.0049
...

Sheet Սկրիպտներ
A1: sens.py — «Զգայունություն» թերթի հաշվարկը (գործարկվում է armenia_scenario_model.py-ի հետ միասին)
A2: import importlib.util,copy,json
A3: spec=importlib.util.spec_from_file_location('m','armenia_scenario_model.py');m=importlib.util.module_from_spec(spec);spec.loader.exec_module(m)
A4: P0=copy.deepcopy(m.P)
A5: def tot(h,over={}):
A6: m.P=copy.deepcopy(P0)
A7: for k,val in over.items(): m.P[k]=(val,val,val) if isinstance(P0[k],tuple) else val
A8: return 100*sum(m.run(1,h).values())/m.GDP
A9: base={h:tot(h) for h in ['st','lt']}
A10: names={'trad_cut_st':'Падение традиционного экспорта в ЕАЭС','trad_cut_lt_factor':'Доля падения экспорта через 10 лет',
A11: 'reexp_cut':'Падение реэкспорта в ЕАЭС','reexp_cut_third':'Падение реэкспорта в третьи страны','va_reexp':'Маржа реэкспорта',
A12: 'svc_cut_st':'Падение экспорта услуг','svc_lt_factor':'Доля падения услуг через 10 лет','rem_core_cut':'Падение «ядра» переводов',
... A134: json.dump(out,open('results.json','w'),ensure_ascii=False,indent=1)
